BEGIN:VCALENDAR
VERSION:2.0
PRODID:-//https://www.sarria.gal///NONSGML kigkonsult.se iCalcreator 2.10.15//
METHOD:PUBLISH
BEGIN:VEVENT
UID:20260422T082317UTC-2649oIruCI@https://www.sarria.gal/
DTSTAMP:20260422T082317Z
DESCRIPTION: https://www.sarria.gal/gl/turismo/que-facer/ferias-festas-even
 tos/evento/618-mercado-de-nadal
DTSTART:20251220T153000Z
DTEND:20251223T190000Z
LOCATION:Villa Andrea ()
SUMMARY:Mercado de Nadal
URL:https://www.sarria.gal/gl/turismo/que-facer/ferias-festas-eventos/event
 o/618-mercado-de-nadal
END:VEVENT
END:VCALENDAR
