BEGIN:VCALENDAR
VERSION:2.0
PRODID:-//https://www.sarria.gal///NONSGML kigkonsult.se iCalcreator 2.10.15//
METHOD:PUBLISH
BEGIN:VEVENT
UID:20260422T082302UTC-11946VcAGu@https://www.sarria.gal/
DTSTAMP:20260422T082302Z
DESCRIPTION: https://www.sarria.gal/gl/turismo/que-facer/ferias-festas-even
 tos/evento/624-concerto-de-fin-de-ano
DTSTART:20251228T190000Z
DTEND:20251228T203500Z
LOCATION:Igrexa da Nosa Señora do Rosario (Formigueiros\, s/n Sarria)
SUMMARY:Concerto de Fin de Ano
URL:https://www.sarria.gal/gl/turismo/que-facer/ferias-festas-eventos/event
 o/624-concerto-de-fin-de-ano
END:VEVENT
END:VCALENDAR
