BEGIN:VCALENDAR
VERSION:2.0
PRODID:-//https://www.sarria.gal///NONSGML kigkonsult.se iCalcreator 2.10.15//
METHOD:PUBLISH
BEGIN:VEVENT
UID:20260420T084902UTC-6838HT45vt@https://www.sarria.gal/
DTSTAMP:20260420T084902Z
DESCRIPTION: https://www.sarria.gal/gl/turismo/que-facer/ferias-festas-even
 tos/evento/625-cabalgata-dos-reis-magos
DTSTART:20260106T170000Z
DTEND:20260106T193700Z
LOCATION:Sarria ()
SUMMARY:Cabalgata dos Reis Magos
URL:https://www.sarria.gal/gl/turismo/que-facer/ferias-festas-eventos/event
 o/625-cabalgata-dos-reis-magos
END:VEVENT
END:VCALENDAR
