BEGIN:VCALENDAR
VERSION:2.0
PRODID:-//https://www.sarria.gal///NONSGML kigkonsult.se iCalcreator 2.10.15//
METHOD:PUBLISH
BEGIN:VEVENT
UID:20260424T134541UTC-3654luVHP6@https://www.sarria.gal/
DTSTAMP:20260424T134541Z
DESCRIPTION: https://www.sarria.gal/gl/turismo/que-facer/ferias-festas-even
 tos/evento/641-pretorian-race-sarria-xtreme
DTSTART;VALUE=DATE:20260425
LOCATION:Sarria ()
SUMMARY:Pretorian Race Sarria Xtreme
URL:https://www.sarria.gal/gl/turismo/que-facer/ferias-festas-eventos/event
 o/641-pretorian-race-sarria-xtreme
END:VEVENT
END:VCALENDAR
