BEGIN:VCALENDAR
VERSION:2.0
PRODID:-//https://www.sarria.gal///NONSGML kigkonsult.se iCalcreator 2.10.15//
METHOD:PUBLISH
BEGIN:VEVENT
UID:20260420T145652UTC-712344Odhx@https://www.sarria.gal/
DTSTAMP:20260420T145652Z
DESCRIPTION: https://www.sarria.gal/gl/turismo/que-facer/ferias-festas-even
 tos/evento/678-romaria-san-marco
DTSTART:20260425T110000Z
DTEND:20260425T215700Z
LOCATION:San Marco ()
SUMMARY:Romaría San Marco
URL:https://www.sarria.gal/gl/turismo/que-facer/ferias-festas-eventos/event
 o/678-romaria-san-marco
END:VEVENT
END:VCALENDAR
