BEGIN:VCALENDAR
VERSION:2.0
PRODID:-//https://www.sarria.gal///NONSGML kigkonsult.se iCalcreator 2.10.15//
METHOD:PUBLISH
BEGIN:VEVENT
UID:20260421T132317UTC-2018ivIO9d@https://www.sarria.gal/
DTSTAMP:20260421T132317Z
DESCRIPTION: https://www.sarria.gal/gl/turismo/que-facer/ferias-festas-even
 tos/evento/679-ultreia-presentacion-libro-francisco-narla
DTSTART:20260424T180000Z
DTEND:20260424T184200Z
LOCATION:Biblioteca Pública Municipal Camilo Gonsar. ()
SUMMARY:'Ultreia'. Presentación libro Francisco Narla
URL:https://www.sarria.gal/gl/turismo/que-facer/ferias-festas-eventos/event
 o/679-ultreia-presentacion-libro-francisco-narla
END:VEVENT
END:VCALENDAR
