BEGIN:VCALENDAR
VERSION:2.0
PRODID:-//https://www.sarria.gal///NONSGML kigkonsult.se iCalcreator 2.10.15//
METHOD:PUBLISH
BEGIN:VEVENT
UID:20260425T125651UTC-3054UZB0lT@https://www.sarria.gal/
DTSTAMP:20260425T125651Z
DESCRIPTION:&nbsp\;\n\nIntenso fin de semana no deportivo\, xa que ademáis 
 da celebración da Pretorian no noso concello\, o equipo sénior Os Meigallo
 s FS xoga en Ordes un partido decisivo para o ascenso&nbsp\; frente a Jofa
 gan Ordes FS: se gañan ou empatan a próxima campaña competirán na Terceira
  División de fútbol sala\, o que supón un fito histórico para o club e par
 a Sarria.\n\n&nbsp\;\n\nMoitísima sorte\, rapaces!\n\n&nbsp\;\n\n\n https:
 //www.sarria.gal/gl/turismo/que-facer/ferias-festas-eventos/evento/682-dep
 orte-fin-de-semana-25-e-26-de-abril
DTSTART:20260426T200000Z
DTEND:20260507T210000Z
LOCATION:Sarria ()
SUMMARY:Deporte fin de semana. 25 e 26 de abril
URL:https://www.sarria.gal/gl/turismo/que-facer/ferias-festas-eventos/event
 o/682-deporte-fin-de-semana-25-e-26-de-abril
END:VEVENT
END:VCALENDAR
